BEGIN:VCALENDAR
VERSION:2.0
PRODID:-//PreMortem Games - ECPv6.15.17//NONSGML v1.0//EN
CALSCALE:GREGORIAN
METHOD:PUBLISH
X-ORIGINAL-URL:https://premortem.games
X-WR-CALDESC:Events for PreMortem Games
REFRESH-INTERVAL;VALUE=DURATION:PT1H
X-Robots-Tag:noindex
X-PUBLISHED-TTL:PT1H
BEGIN:VTIMEZONE
TZID:Europe/Amsterdam
BEGIN:DAYLIGHT
TZOFFSETFROM:+0100
TZOFFSETTO:+0200
TZNAME:CEST
DTSTART:20210328T010000
END:DAYLIGHT
BEGIN:STANDARD
TZOFFSETFROM:+0200
TZOFFSETTO:+0100
TZNAME:CET
DTSTART:20211031T010000
END:STANDARD
BEGIN:DAYLIGHT
TZOFFSETFROM:+0100
TZOFFSETTO:+0200
TZNAME:CEST
DTSTART:20220327T010000
END:DAYLIGHT
BEGIN:STANDARD
TZOFFSETFROM:+0200
TZOFFSETTO:+0100
TZNAME:CET
DTSTART:20221030T010000
END:STANDARD
BEGIN:DAYLIGHT
TZOFFSETFROM:+0100
TZOFFSETTO:+0200
TZNAME:CEST
DTSTART:20230326T010000
END:DAYLIGHT
BEGIN:STANDARD
TZOFFSETFROM:+0200
TZOFFSETTO:+0100
TZNAME:CET
DTSTART:20231029T010000
END:STANDARD
BEGIN:DAYLIGHT
TZOFFSETFROM:+0100
TZOFFSETTO:+0200
TZNAME:CEST
DTSTART:20240331T010000
END:DAYLIGHT
BEGIN:STANDARD
TZOFFSETFROM:+0200
TZOFFSETTO:+0100
TZNAME:CET
DTSTART:20241027T010000
END:STANDARD
END:VTIMEZONE
BEGIN:VTIMEZONE
TZID:Europe/Paris
BEGIN:DAYLIGHT
TZOFFSETFROM:+0100
TZOFFSETTO:+0200
TZNAME:CEST
DTSTART:20210328T010000
END:DAYLIGHT
BEGIN:STANDARD
TZOFFSETFROM:+0200
TZOFFSETTO:+0100
TZNAME:CET
DTSTART:20211031T010000
END:STANDARD
BEGIN:DAYLIGHT
TZOFFSETFROM:+0100
TZOFFSETTO:+0200
TZNAME:CEST
DTSTART:20220327T010000
END:DAYLIGHT
BEGIN:STANDARD
TZOFFSETFROM:+0200
TZOFFSETTO:+0100
TZNAME:CET
DTSTART:20221030T010000
END:STANDARD
BEGIN:DAYLIGHT
TZOFFSETFROM:+0100
TZOFFSETTO:+0200
TZNAME:CEST
DTSTART:20230326T010000
END:DAYLIGHT
BEGIN:STANDARD
TZOFFSETFROM:+0200
TZOFFSETTO:+0100
TZNAME:CET
DTSTART:20231029T010000
END:STANDARD
END:VTIMEZONE
BEGIN:VEVENT
DTSTART;VALUE=DATE:20230516
DTEND;VALUE=DATE:20230518
DTSTAMP:20260419T174621
CREATED:20230123T131400Z
LAST-MODIFIED:20230123T134121Z
UID:2742-1684195200-1684367999@premortem.games
SUMMARY:Pocket Gamer Connects Seattle
DESCRIPTION:Pocket Gamer Connects is the leading international conference series for the global games industry. They focus on connecting you with the right people bringing together delegates from across the entire ecosystem with all the key formats covered from mobile\, PC and console to  XR\, blockchain and web3 technology. \nWell over 33\,000 industry professionals have attended the PG Connects international conference series since 2014. The roadshow has landed in the UK\, America\, Canada\, Finland\, Jordan\, India and Hong Kong with a genuinely international client base. \nAfter many years of curating events for the games industry\, PG Connects has established a stellar reputation as a must-attend conference if you want to meet the most exciting game makers\, developers and publishers alike\, as well as some of the world’s top investors\, tools providers\, platformers and more. The audience is truly global and representative of the entire games industry ecosystem. \nWHAT TO EXPECT FROM POCKET GAMER CONNECTS SEATTLE 2023…
URL:https://premortem.games/event/pocket-gamer-connects-seattle/
LOCATION:Seattle\, Canada
CATEGORIES:Games Industry,On site
ATTACH;FMTTYPE=image/png:https://premortem.games/wp-content/uploads/2023/01/Schermafbeelding_20230123_141137.png
END:VEVENT
BEGIN:VEVENT
DTSTART;VALUE=DATE:20230424
DTEND;VALUE=DATE:20230426
DTSTAMP:20260419T174621
CREATED:20230209T130548Z
LAST-MODIFIED:20230209T130655Z
UID:2845-1682294400-1682467199@premortem.games
SUMMARY:Copenhagen Matchup
DESCRIPTION:Copenhagen MatchUp is Denmark’s largest games industry matchmaking event. Pairing investors & publishers from across the Worlds with the best of the Danish Games industry both online and on-site over two days in April.
URL:https://premortem.games/event/copenhagen-matchup/
LOCATION:Copenhagen\, Denmark
CATEGORIES:Games Industry,On site,Online
ATTACH;FMTTYPE=image/png:https://premortem.games/wp-content/uploads/2021/03/cph_matchup.png
END:VEVENT
BEGIN:VEVENT
DTSTART;VALUE=DATE:20230420
DTEND;VALUE=DATE:20230422
DTSTAMP:20260419T174621
CREATED:20230123T130715Z
LAST-MODIFIED:20230124T090100Z
UID:2729-1681948800-1682121599@premortem.games
SUMMARY:XP Game Developer Summit Toronto
DESCRIPTION:XP GAME DEVELOPER SUMMIT RETURNS\n\n\n\n\nXP Game Developer Summit will return to Toronto for its 4th year at the Westin Harbour Castle on April 20 & 21st\, 2023 \nFeaturing global networking\, world-class speakers\, exclusive panels\, workshops\, Canada’s largest game showcase\, and more\, XP Game Developer Summit is the premier business-to-business conference for the Canadian gaming industry. \nXP Game Developer Summit has once again partnered with event platform provider MeetToMatch to facilitate targeted networking and business-to-business experiences for international investors\, publishers\, developers\, and service providers to discover new business opportunities.
URL:https://premortem.games/event/xp-game-developer-summit-toronto/
LOCATION:Toronto\, Canada
CATEGORIES:Games Industry,On site
ATTACH;FMTTYPE=image/png:https://premortem.games/wp-content/uploads/2023/01/gds-logo-site.png
END:VEVENT
BEGIN:VEVENT
DTSTART;VALUE=DATE:20230320
DTEND;VALUE=DATE:20230325
DTSTAMP:20260419T174621
CREATED:20230123T130226Z
LAST-MODIFIED:20230213T164406Z
UID:2726-1679270400-1679702399@premortem.games
SUMMARY:The San Francisco Edition 2023 - Powered by Xsolla
DESCRIPTION:MeetToMatch – The San Francisco Edition\, powered by Xsolla is your most relevant platform for business in the games industry during GDC since 2017. Trusted by hundreds of publishers\, investors\, governments and developers\, the MeetToMatch platform enables you to get in contact with the right people from game companies around the world. A very efficient way to make your time most relevant during one of the largest tradeshows in North America.
URL:https://premortem.games/event/the-san-francisco-edition-2023/
LOCATION:San Francisco\, United States
CATEGORIES:Games Industry,On site
ATTACH;FMTTYPE=image/png:https://premortem.games/wp-content/uploads/2023/01/San-Francisco-Edition-2023-purple-square.png
END:VEVENT
BEGIN:VEVENT
DTSTART;VALUE=DATE:20230308
DTEND;VALUE=DATE:20230310
DTSTAMP:20260419T174621
CREATED:20230123T110932Z
LAST-MODIFIED:20230123T134645Z
UID:2720-1678233600-1678406399@premortem.games
SUMMARY:Indie Game Business Session – March 2023
DESCRIPTION:Indie Games Business Sessions as an annitiative from the Powell Group that teaches the game developers side of the business. \nWant to know more? Check out their website for awesome announcements and free to join access!
URL:https://premortem.games/event/indie-game-business-session-march-2023/
LOCATION:Virtual\, Virtual
CATEGORIES:Games Industry,Online
ATTACH;FMTTYPE=image/png:https://premortem.games/wp-content/uploads/2023/01/Calendar-image.png
END:VEVENT
BEGIN:VEVENT
DTSTART;VALUE=DATE:20230301
DTEND;VALUE=DATE:20230303
DTSTAMP:20260419T174621
CREATED:20230123T110531Z
LAST-MODIFIED:20230123T132446Z
UID:2716-1677628800-1677801599@premortem.games
SUMMARY:Hamburg Games Conference
DESCRIPTION:The annual Hamburg Games Conference has been a permanent date in the calendar of the international games industry for over 10 years. As on of the most important B2B events for the games sector in Europe\, 2021 saw the conference set new standards by taking online events to a new level. 2022 continued to define new standards for hybrid conferences. This year they are back in with the topic “Invest in Games” in an on-site only event form.
URL:https://premortem.games/event/hamburg-games-conference/
LOCATION:Hamburg\, Germany
CATEGORIES:Games Industry,On site
ATTACH;FMTTYPE=image/png:https://premortem.games/wp-content/uploads/2023/01/image-1.png
END:VEVENT
BEGIN:VEVENT
DTSTART;VALUE=DATE:20230123
DTEND;VALUE=DATE:20230125
DTSTAMP:20260419T174621
CREATED:20230123T110147Z
LAST-MODIFIED:20230123T110147Z
UID:2713-1674432000-1674604799@premortem.games
SUMMARY:PG Connects London
DESCRIPTION:
URL:https://premortem.games/event/pg-connects-london/
LOCATION:London\, England
CATEGORIES:Games Industry,On site
ATTACH;FMTTYPE=image/png:https://premortem.games/wp-content/uploads/2023/01/Schermafbeelding_20221222_132609.png
END:VEVENT
BEGIN:VEVENT
DTSTART;VALUE=DATE:20221128
DTEND;VALUE=DATE:20221203
DTSTAMP:20260419T174621
CREATED:20221013T144533Z
LAST-MODIFIED:20221013T145930Z
UID:2294-1669593600-1670025599@premortem.games
SUMMARY:Immersive Tech Week
DESCRIPTION:Get inspired\, discover & experience\nHottest speakers | Mindblowing experiences\nCutting-edge tech | Ground-breaking performances\nThe best in creative XR | The most innovative startups\nVR\, AR\, XR\, the metaverse\, haptics\, NFTs and more\, there is always more. \nJoin the community – Let’s meet in Rotterdam!
URL:https://premortem.games/event/immersive-tech-week/
LOCATION:Rotterdam\, the Netherlands\, Rotterdam\, Netherlands
CATEGORIES:Games Industry,On site
ATTACH;FMTTYPE=image/png:https://premortem.games/wp-content/uploads/2022/10/Immersive-Tech-week-logo.png
END:VEVENT
BEGIN:VEVENT
DTSTART;VALUE=DATE:20221122
DTEND;VALUE=DATE:20221124
DTSTAMP:20260419T174621
CREATED:20220411T135936Z
LAST-MODIFIED:20221010T140838Z
UID:1490-1669075200-1669247999@premortem.games
SUMMARY:Konsoll 2022
DESCRIPTION:Founded by The Game Developers Guild in Norway\, it’s goal; offer game developers inspiration and wisdom from industry veterans. Its forum is created to communicate and network with peers in a relaxed and casual atmosphere. Gamers\, check out the link and see if there’s something in it for you.
URL:https://premortem.games/event/konsoll-2022/
LOCATION:Bergen\, Norway
CATEGORIES:Games Industry,On site
ATTACH;FMTTYPE=image/png:https://premortem.games/wp-content/uploads/2022/04/konsolllogo.png
END:VEVENT
BEGIN:VEVENT
DTSTART;VALUE=DATE:20221117
DTEND;VALUE=DATE:20221120
DTSTAMP:20260419T174621
CREATED:20220714T121646Z
LAST-MODIFIED:20221010T140642Z
UID:1869-1668643200-1668902399@premortem.games
SUMMARY:G-STAR 2022
DESCRIPTION:Are you a game professional located and/or interested in the Korean/Asian market than you should add G-STAR to your calendar. It’s one of the most accessible games event in Asia and a great place to meet all the big names from the Asia-Pacific games scene.
URL:https://premortem.games/event/g-star-2022/
LOCATION:Busan
CATEGORIES:Games Industry,On site,Online
ATTACH;FMTTYPE=image/png:https://premortem.games/wp-content/uploads/2021/08/gstarnewlogo.png
END:VEVENT
BEGIN:VEVENT
DTSTART;VALUE=DATE:20221115
DTEND;VALUE=DATE:20221117
DTSTAMP:20260419T174621
CREATED:20221004T105757Z
LAST-MODIFIED:20221010T132933Z
UID:2225-1668470400-1668643199@premortem.games
SUMMARY:NG Helsinki 2022
DESCRIPTION:Nordic Game is coming to Finland this fall during Slush week\, the world’s leading start-up event. At the historic Hotel Kämp in central Helsinki\, Nordic Game will present selected parts of its popular conference program. Over two days Nordic Game will host an Executive Summit\, Publisher Market and a full day of networking!
URL:https://premortem.games/event/ng-helsinki-2022/
LOCATION:Helsinki\, Finland
CATEGORIES:Games Industry,On site
ATTACH;FMTTYPE=image/png:https://premortem.games/wp-content/uploads/2022/10/nordic-game-helsinki-logo-.png
END:VEVENT
BEGIN:VEVENT
DTSTART;VALUE=DATE:20221112
DTEND;VALUE=DATE:20221114
DTSTAMP:20260419T174621
CREATED:20220811T095608Z
LAST-MODIFIED:20221010T131803Z
UID:2037-1668211200-1668383999@premortem.games
SUMMARY:Pocket Gamer Connects Jordan 2022
DESCRIPTION:Pocket Gamer Connects is the leading international conference series for the global games industry. They focus on bringing people in the industry together. Key formats covered are mobile\, PC and console to XR\, blockchain and web3 technology. PG Connects has established a stellar reputation as a must-attend conference for meeting the most exciting game makers\, developers and publishers alike\, as well as some of the world’s top investors\, tools providers\, platformers and more.
URL:https://premortem.games/event/pocket-games-connects-jordan-2022/
LOCATION:Amann
CATEGORIES:Games Industry,On site
ATTACH;FMTTYPE=image/png:https://premortem.games/wp-content/uploads/2022/08/PGC-Jordan.png
END:VEVENT
BEGIN:VEVENT
DTSTART;VALUE=DATE:20221110
DTEND;VALUE=DATE:20221111
DTSTAMP:20260419T174621
CREATED:20221013T134414Z
LAST-MODIFIED:20221013T150349Z
UID:2291-1668038400-1668124799@premortem.games
SUMMARY:European Games co-production market
DESCRIPTION:The European Games Co-production Market (EGCM) aims at bringing studios from all over Europe to develop and finance indie games together. That’s what we called co-production: a third way to develop and release your video games. The EGCM is a 6 months yearly program (June – November) to find a co-producers for your game\, define your common strategy\, pitch to publishers and financiers.
URL:https://premortem.games/event/european-games-co-production-market/
LOCATION:Online
CATEGORIES:Games Industry,Online
ATTACH;FMTTYPE=image/png:https://premortem.games/wp-content/uploads/2022/10/europe.png
END:VEVENT
BEGIN:VEVENT
DTSTART;VALUE=DATE:20221110
DTEND;VALUE=DATE:20221112
DTSTAMP:20260419T174621
CREATED:20221010T125538Z
LAST-MODIFIED:20221010T140945Z
UID:2259-1668038400-1668211199@premortem.games
SUMMARY:Gamesweek Zurich
DESCRIPTION:Gamesweek Zurich has it all! From digital games\, board games\, workshops\, discussion rounds\, pinball machines and a variety of intersting and culinairy dishes on-site. Another big activity is the imprementation of the Swiss Game Awards\, check it out now! \n 
URL:https://premortem.games/event/gamesweek-zurich/
LOCATION:Zurich\, Zurich\, Switzerland
CATEGORIES:Games Industry,On site,Online
ATTACH;FMTTYPE=image/png:https://premortem.games/wp-content/uploads/2022/10/SGDA_Gamesweek-Logo_Web_FV3.png
END:VEVENT
BEGIN:VEVENT
DTSTART;VALUE=DATE:20221024
DTEND;VALUE=DATE:20221026
DTSTAMP:20260419T174621
CREATED:20220712T113346Z
LAST-MODIFIED:20221010T142221Z
UID:1861-1666569600-1666742399@premortem.games
SUMMARY:Dev.Play 2022
DESCRIPTION:Dev.Play is calling for Indies! This party includes streamers playing your game\, a Daily Feature on STEAM\, a chance to meet investors\, publishers and other partners online or onsite and of course\, the best party to mingle and meet the dev community onsite this October! On top of this at the end of the conference\, the Dev.Play Awards Gala is hosted! It’s a great way to meet the most amazing\, creative and unique games out there.
URL:https://premortem.games/event/dev-play-2022/
LOCATION:Bukarest
CATEGORIES:Games Industry,On site
ATTACH;FMTTYPE=image/png:https://premortem.games/wp-content/uploads/2022/07/devplay2022.png
END:VEVENT
BEGIN:VEVENT
DTSTART;VALUE=DATE:20221019
DTEND;VALUE=DATE:20221023
DTSTAMP:20260419T174621
CREATED:20220527T122133Z
LAST-MODIFIED:20220527T122744Z
UID:1693-1666137600-1666483199@premortem.games
SUMMARY:MEGAMIGS 2022
DESCRIPTION:We are pleased to announce the return of MEGAMIGS in person for the 2022 edition! The unmissable event for video game enthusiasts will be back during the colourful season\, from October 19th to 22nd. We look forward to seeing you in the heart of downtown Montreal at the Bonaventure Hotel. \nThe 2022 edition focuses on discovery and playability. Welcoming exhibitors from around the world\, general admission ticket holders will be able to explore the many booths and showcases of our exhibitors as well as attend their conferences in the Expo Hall. Play the latest releases in the Gaming Zone and discover the impressive talent of independent studios in the Indie Zone. Meet representatives from the best training programs in the province in the Education Zone. Visit the pavilions of the international delegations present. And much more!
URL:https://premortem.games/event/megamigs-2022/
LOCATION:Montreal
CATEGORIES:Games Industry,On site
ATTACH;FMTTYPE=image/png:https://premortem.games/wp-content/uploads/2021/04/megamigs.png
END:VEVENT
BEGIN:VEVENT
DTSTART;VALUE=DATE:20221005
DTEND;VALUE=DATE:20221008
DTSTAMP:20260419T174621
CREATED:20221004T105404Z
LAST-MODIFIED:20221004T105404Z
UID:2219-1664928000-1665187199@premortem.games
SUMMARY:LEVEL UP KL 2022
DESCRIPTION:
URL:https://premortem.games/event/level-up-kl-2022/
LOCATION:Kuala Lumpur\, Indonesia
CATEGORIES:Games Industry,On site
ATTACH;FMTTYPE=image/png:https://premortem.games/wp-content/uploads/2022/10/LevelUp-logo.png
END:VEVENT
BEGIN:VEVENT
DTSTART;VALUE=DATE:20221003
DTEND;VALUE=DATE:20221006
DTSTAMP:20260419T174621
CREATED:20220712T130505Z
LAST-MODIFIED:20220712T130505Z
UID:1857-1664755200-1665014399@premortem.games
SUMMARY:GCAP 2022
DESCRIPTION:
URL:https://premortem.games/event/gcap-2022/
LOCATION:Melbourne
CATEGORIES:Games Industry,On site
ATTACH;FMTTYPE=image/png:https://premortem.games/wp-content/uploads/2022/07/gcaplogowebstie.png
END:VEVENT
BEGIN:VEVENT
DTSTART;VALUE=DATE:20220927
DTEND;VALUE=DATE:20220929
DTSTAMP:20260419T174621
CREATED:20220712T110031Z
LAST-MODIFIED:20220712T110031Z
UID:1852-1664236800-1664409599@premortem.games
SUMMARY:Pocket Gamer Connects Helsinki 2022
DESCRIPTION:
URL:https://premortem.games/event/pocket-gamer-connects-helsinki-2022/
LOCATION:Helsinki\, Finland
CATEGORIES:Games Industry,On site
ATTACH;FMTTYPE=image/png:https://premortem.games/wp-content/uploads/2022/07/helsinkiwebsite.png
END:VEVENT
BEGIN:VEVENT
DTSTART;VALUE=DATE:20220920
DTEND;VALUE=DATE:20220923
DTSTAMP:20260419T174621
CREATED:20220811T094246Z
LAST-MODIFIED:20220811T094246Z
UID:2035-1663632000-1663891199@premortem.games
SUMMARY:GI Live London 2022
DESCRIPTION:
URL:https://premortem.games/event/gi-live-london-2022/
LOCATION:London\, England
CATEGORIES:Games Industry,On site,Online
ATTACH;FMTTYPE=image/png:https://premortem.games/wp-content/uploads/2021/09/gilivewebsite.png
END:VEVENT
BEGIN:VEVENT
DTSTART;VALUE=DATE:20220919
DTEND;VALUE=DATE:20220925
DTSTAMP:20260419T174621
CREATED:20220712T104638Z
LAST-MODIFIED:20220712T110159Z
UID:1849-1663545600-1664063999@premortem.games
SUMMARY:Africacomicade Gamathon 2022
DESCRIPTION:
URL:https://premortem.games/event/africacomicade-gamathon-2022/
CATEGORIES:Games Industry
ATTACH;FMTTYPE=image/png:https://premortem.games/wp-content/uploads/2022/07/acgeventkalender.png
END:VEVENT
BEGIN:VEVENT
DTSTART;VALUE=DATE:20220916
DTEND;VALUE=DATE:20220919
DTSTAMP:20260419T174621
CREATED:20220712T103518Z
LAST-MODIFIED:20220712T103606Z
UID:1844-1663286400-1663545599@premortem.games
SUMMARY:gamesweekberlin 2022
DESCRIPTION:
URL:https://premortem.games/event/gamesweekberlin-2022/
LOCATION:Berlin\, Germany
CATEGORIES:Games Industry,On site
ATTACH;FMTTYPE=image/png:https://premortem.games/wp-content/uploads/2022/07/gamesweekberlinlogonextevents-300x300-1.png
END:VEVENT
BEGIN:VEVENT
DTSTART;VALUE=DATE:20220916
DTEND;VALUE=DATE:20220919
DTSTAMP:20260419T174621
CREATED:20220622T152549Z
LAST-MODIFIED:20220622T152549Z
UID:1783-1663286400-1663545599@premortem.games
SUMMARY:Gaming Istanbul 2022
DESCRIPTION:Gaming İstanbul has become the largest B2C and B2B gaming expo of Turkey & the MENA in three years and the visitor number has been increasing about approximately 27% every year. The power behind this success\, Gaming İstanbul Team and the third parties working for Gaming İstanbul are hardcore gamers and they organize an expo of which they are dreaming. The gaming bridge of Eurasia GIST combines Asia and Europe games market and open a door through the MENA; \n\nHands ons of the worldwide known games such as Far Cry 5\, Horizon Zero Dawn\, For Honor\, Smite Tactics and of the systems such as Playlink were organized for the first time in Turkey\, before they have been released.\nUbisoft\, Blizzard Entertainment and Tencent Games\, the biggest game companies worldwide\, had their booths at Gaming İstanbul\, for the first time in Turkey.\nWhile GIST 2017 hosted the launch of the hotly-anticipated game No70: Eye of Basir by Oldmoustache Gameworks\, 30 indies could have an opportunity of exhibiting their games to the visitors and professionals for free.\nPUBG\, Overwatch and Rainbow Six: Siege tournaments have created reactions at GIST 2018.
URL:https://premortem.games/event/gaming-istanbul-2022/
LOCATION:Istanbul
CATEGORIES:Games Industry,On site
ATTACH;FMTTYPE=image/png:https://premortem.games/wp-content/uploads/2022/06/gistlgowebstie.png
END:VEVENT
BEGIN:VEVENT
DTSTART;VALUE=DATE:20220712
DTEND;VALUE=DATE:20220715
DTSTAMP:20260419T174621
CREATED:20220510T093038Z
LAST-MODIFIED:20220510T104040Z
UID:1592-1657584000-1657843199@premortem.games
SUMMARY:Develop:Brighton 2022
DESCRIPTION:Develop:Brighton is a conference\, expo and networking event for absolutely everyone involved in developing games. \n\nHowever big or small you are – 14% of our 2021 attendees were people working alone\, 23% had over 250 employees and the rest were in-between!\nWhatever your job function – whether you’re a programmer\, an artist\, a designer or the boss there is a track in the conference focussing on your specific needs or interests. View conference tracks \nWherever you come from – we’re based in the UK but we have game devs attending and speaking from all over the world.\nWhatever your organisation does in games – you don’t have to develop games to benefit from attending\, if you want to meet developers then this is the place to come!
URL:https://premortem.games/event/develop-brighton-2022/
LOCATION:Brighton\, England
CATEGORIES:Games Industry,On site
ATTACH;FMTTYPE=image/png:https://premortem.games/wp-content/uploads/2022/05/devbrightonwebsite-1.png
END:VEVENT
BEGIN:VEVENT
DTSTART;VALUE=DATE:20220707
DTEND;VALUE=DATE:20220709
DTSTAMP:20260419T174621
CREATED:20220204T145106Z
LAST-MODIFIED:20220204T145106Z
UID:1200-1657152000-1657324799@premortem.games
SUMMARY:First Playable 2022
DESCRIPTION:Are you an Italian games developer ready for two days of coaching\, talking\, and pitching? Or a publisher/investor wanting to get to know the Italian games industry? Then First Playable is the event for you. \nGet feedback on your project or company by industrial professionals\, learn the business of game making through talks or pitch to international publishers\, powered by MeetToMatch.
URL:https://premortem.games/event/first-playable-2022/
LOCATION:Pisa
CATEGORIES:Games Industry,On site,Online
ATTACH;FMTTYPE=image/png:https://premortem.games/wp-content/uploads/2021/03/First-Playablke.png
END:VEVENT
BEGIN:VEVENT
DTSTART;VALUE=DATE:20220706
DTEND;VALUE=DATE:20220708
DTSTAMP:20260419T174621
CREATED:20220527T115955Z
LAST-MODIFIED:20220527T122608Z
UID:1689-1657065600-1657238399@premortem.games
SUMMARY:Pocket Gamer Connects Toronto 2022
DESCRIPTION:The leading mobile gaming industry conference\, Pocket Gamer Connects\, goes live in Toronto in July 2022. This is our first conference in the city and we’re excited to be bringing the roadshow here for the first time. After events in London UK and Seattle US in 2022\, our next stop will be Ontario Province where we will connect\, inform and entertain the local and international games industry community.
URL:https://premortem.games/event/pocket-gamer-connects-toronto/
LOCATION:Toronto\, Canada
CATEGORIES:Games Industry,On site,Online
ATTACH;FMTTYPE=image/png:https://premortem.games/wp-content/uploads/2022/05/pgctorontowebsite.png
END:VEVENT
BEGIN:VEVENT
DTSTART;VALUE=DATE:20220624
DTEND;VALUE=DATE:20220626
DTSTAMP:20260419T174621
CREATED:20220119T124317Z
LAST-MODIFIED:20220119T124516Z
UID:1110-1656028800-1656201599@premortem.games
SUMMARY:IndieWay June 2022
DESCRIPTION:Welcome to Indieway June 2022! Here you’ll find free webinars with great speakers\, business matchmaking to make great deals a showcase to present your product\, and free showcase opportunity for indie developers. More info here!
URL:https://premortem.games/event/indieway-march-2022/
LOCATION:Online
CATEGORIES:Games Industry,Online
ATTACH;FMTTYPE=image/png:https://premortem.games/wp-content/uploads/2021/08/indiewaywebsite.png
END:VEVENT
BEGIN:VEVENT
DTSTART;VALUE=DATE:20220617
DTEND;VALUE=DATE:20220618
DTSTAMP:20260419T174621
CREATED:20220216T144722Z
LAST-MODIFIED:20220426T090736Z
UID:1250-1655424000-1655510399@premortem.games
SUMMARY:INDIGO 2022
DESCRIPTION:INDIGO is the leading game business and showcase event in the Netherlands\, organized annually by Dutch Game Garden. This year INDIGO welcomes you to both an on-site and online program. Join the on-site conference with MeetToMatch square in Utrecht (NL)\, or tune in from a distance for online matchmaking and the INDIGO Discover Showcase stream. More info and tickets: www.indigoshowcase.nl.
URL:https://premortem.games/event/indigo-2022/
LOCATION:Utrecht
CATEGORIES:Games Industry,On site,Online
ATTACH;FMTTYPE=image/png:https://premortem.games/wp-content/uploads/2022/02/indigocalendar.png
END:VEVENT
BEGIN:VEVENT
DTSTART;VALUE=DATE:20220525
DTEND;VALUE=DATE:20220529
DTSTAMP:20260419T174621
CREATED:20210519T071309Z
LAST-MODIFIED:20220411T140056Z
UID:296-1653436800-1653782399@premortem.games
SUMMARY:Arctic Game Week 2022
DESCRIPTION:Arctic Game Week\, 25-28 of May 2022\, is an umbrella event in skellefteå in the north of Sweden. \nArctic Game Week takes place between the 25-28 of May. Arctic Game Week Features everything from Industry Conferences to Award Shows to the Nordsken Convention\, a giant celebration of games\, art and everything nerdy. \nIt is a gathering for those that work in the game industry\, the fantastical industry\, are planning to be a part of the industry or studying to do so\, as well as the general public who wonder about the products and works of art that come out of those industries and much\, much more. \nArctic Game Week is also when the international game\, film and book as well as other industry\, publishers and investors visit northern Sweden.\n​ \nIn short\, it is an exciting week with networking\, business and games and you should be there!
URL:https://premortem.games/event/arctic-game-week-2021/
LOCATION:Skelleftea\, Sweden
CATEGORIES:Games Industry,On site
ATTACH;FMTTYPE=image/png:https://premortem.games/wp-content/uploads/2021/05/agwlogo.png
END:VEVENT
BEGIN:VEVENT
DTSTART;VALUE=DATE:20220517
DTEND;VALUE=DATE:20220521
DTSTAMP:20260419T174621
CREATED:20220315T123617Z
LAST-MODIFIED:20220315T123617Z
UID:1403-1652745600-1653091199@premortem.games
SUMMARY:Nordic Game 2022
DESCRIPTION:The Nordic Game conference is held in the spring and autumn each year in Malmö\, Sweden. We return online and to historic Slagthuset in Malmö\, Sweden with NG22 Spring on 17-20 May and again in November. \n 
URL:https://premortem.games/event/nordic-game-2022/
LOCATION:Malmo\, Sweden
CATEGORIES:Games Industry,On site,Online
ATTACH;FMTTYPE=image/png:https://premortem.games/wp-content/uploads/2021/09/nordicgamewebsite.png
END:VEVENT
END:VCALENDAR