BEGIN:VCALENDAR
VERSION:2.0
PRODID:-//PreMortem Games - ECPv6.15.17//NONSGML v1.0//EN
CALSCALE:GREGORIAN
METHOD:PUBLISH
X-ORIGINAL-URL:https://premortem.games
X-WR-CALDESC:Events for PreMortem Games
REFRESH-INTERVAL;VALUE=DURATION:PT1H
X-Robots-Tag:noindex
X-PUBLISHED-TTL:PT1H
BEGIN:VTIMEZONE
TZID:Europe/Amsterdam
BEGIN:DAYLIGHT
TZOFFSETFROM:+0100
TZOFFSETTO:+0200
TZNAME:CEST
DTSTART:20220327T010000
END:DAYLIGHT
BEGIN:STANDARD
TZOFFSETFROM:+0200
TZOFFSETTO:+0100
TZNAME:CET
DTSTART:20221030T010000
END:STANDARD
BEGIN:DAYLIGHT
TZOFFSETFROM:+0100
TZOFFSETTO:+0200
TZNAME:CEST
DTSTART:20230326T010000
END:DAYLIGHT
BEGIN:STANDARD
TZOFFSETFROM:+0200
TZOFFSETTO:+0100
TZNAME:CET
DTSTART:20231029T010000
END:STANDARD
BEGIN:DAYLIGHT
TZOFFSETFROM:+0100
TZOFFSETTO:+0200
TZNAME:CEST
DTSTART:20240331T010000
END:DAYLIGHT
BEGIN:STANDARD
TZOFFSETFROM:+0200
TZOFFSETTO:+0100
TZNAME:CET
DTSTART:20241027T010000
END:STANDARD
BEGIN:DAYLIGHT
TZOFFSETFROM:+0100
TZOFFSETTO:+0200
TZNAME:CEST
DTSTART:20250330T010000
END:DAYLIGHT
BEGIN:STANDARD
TZOFFSETFROM:+0200
TZOFFSETTO:+0100
TZNAME:CET
DTSTART:20251026T010000
END:STANDARD
END:VTIMEZONE
BEGIN:VEVENT
DTSTART;VALUE=DATE:20240623
DTEND;VALUE=DATE:20240626
DTSTAMP:20260419T145244
CREATED:20240423T145453Z
LAST-MODIFIED:20240423T145453Z
UID:4591-1719100800-1719359999@premortem.games
SUMMARY:Game Camp 2024
DESCRIPTION:
URL:https://premortem.games/event/game-camp-2024/
LOCATION:Lille\, France
CATEGORIES:Business,Games Industry,On site
ATTACH;FMTTYPE=image/png:https://premortem.games/wp-content/uploads/2024/04/GameCamp2024-1.png
END:VEVENT
BEGIN:VEVENT
DTSTART;VALUE=DATE:20240622
DTEND;VALUE=DATE:20240623
DTSTAMP:20260419T145244
CREATED:20240423T145243Z
LAST-MODIFIED:20240423T145243Z
UID:4588-1719014400-1719100799@premortem.games
SUMMARY:Spielfabrique – Online Matchmaking Session
DESCRIPTION:
URL:https://premortem.games/event/spielfabrique-online-matchmaking-session/
CATEGORIES:Business,Games Industry,Online
ATTACH;FMTTYPE=image/png:https://premortem.games/wp-content/uploads/2024/04/Spielfabrique.png
END:VEVENT
BEGIN:VEVENT
DTSTART;VALUE=DATE:20240619
DTEND;VALUE=DATE:20240620
DTSTAMP:20260419T145244
CREATED:20240423T144617Z
LAST-MODIFIED:20240423T144617Z
UID:4584-1718755200-1718841599@premortem.games
SUMMARY:INDIGO 2024
DESCRIPTION:
URL:https://premortem.games/event/indigo-2024/
LOCATION:Utrecht\, The Netherlands
CATEGORIES:Games Industry,On site
ATTACH;FMTTYPE=image/png:https://premortem.games/wp-content/uploads/2024/04/indigocalendar.png
END:VEVENT
BEGIN:VEVENT
DTSTART;VALUE=DATE:20240614
DTEND;VALUE=DATE:20240616
DTSTAMP:20260419T145244
CREATED:20240503T080519Z
LAST-MODIFIED:20240503T080519Z
UID:4692-1718323200-1718495999@premortem.games
SUMMARY:Mad Games Show
DESCRIPTION:
URL:https://premortem.games/event/mad-games-show/
LOCATION:Madrid\, Spain
CATEGORIES:Business,Games Industry,On site
ATTACH;FMTTYPE=image/png:https://premortem.games/wp-content/uploads/2024/05/mgs-300x300-1.png
END:VEVENT
BEGIN:VEVENT
DTSTART;VALUE=DATE:20240613
DTEND;VALUE=DATE:20240615
DTSTAMP:20260419T145244
CREATED:20240423T144255Z
LAST-MODIFIED:20240423T144255Z
UID:4581-1718236800-1718409599@premortem.games
SUMMARY:XP Game Summit 2024
DESCRIPTION:
URL:https://premortem.games/event/xp-game-summit-2024/
LOCATION:Toronto\, Canada
CATEGORIES:Business,Games Industry,On site
ATTACH;FMTTYPE=image/png:https://premortem.games/wp-content/uploads/2024/04/XPGame2024.png
END:VEVENT
BEGIN:VEVENT
DTSTART;VALUE=DATE:20240611
DTEND;VALUE=DATE:20240613
DTSTAMP:20260419T145244
CREATED:20240423T143948Z
LAST-MODIFIED:20240423T144815Z
UID:4577-1718064000-1718236799@premortem.games
SUMMARY:Gamesforum Hamburg 2024
DESCRIPTION:
URL:https://premortem.games/event/gamesforum-hamburg-2024/
LOCATION:Hamburg\, Germany
CATEGORIES:Games Industry,On site
ATTACH;FMTTYPE=image/png:https://premortem.games/wp-content/uploads/2024/04/gamesforum-hamburg-300x300-1.png
END:VEVENT
BEGIN:VEVENT
DTSTART;TZID=Europe/Amsterdam:20240524T080000
DTEND;TZID=Europe/Amsterdam:20240526T170000
DTSTAMP:20260419T145244
CREATED:20240425T115315Z
LAST-MODIFIED:20240425T115315Z
UID:4658-1716537600-1716742800@premortem.games
SUMMARY:Morocco Gaming Expo
DESCRIPTION:
URL:https://premortem.games/event/morocco-gaming-expo/
LOCATION:Rabat\, Morocco
CATEGORIES:Games Industry
ATTACH;FMTTYPE=image/png:https://premortem.games/wp-content/uploads/2024/04/Untitled.png
END:VEVENT
BEGIN:VEVENT
DTSTART;VALUE=DATE:20240521
DTEND;VALUE=DATE:20240525
DTSTAMP:20260419T145244
CREATED:20240423T143705Z
LAST-MODIFIED:20240423T143705Z
UID:4573-1716249600-1716595199@premortem.games
SUMMARY:Nordic Game May 2024
DESCRIPTION:
URL:https://premortem.games/event/nordic-game-may-2024/
LOCATION:Malmö\, Sweden
CATEGORIES:Games Industry,On site,Online
ATTACH;FMTTYPE=image/png:https://premortem.games/wp-content/uploads/2024/04/NG2024.png
END:VEVENT
BEGIN:VEVENT
DTSTART;VALUE=DATE:20240509
DTEND;VALUE=DATE:20240511
DTSTAMP:20260419T145244
CREATED:20240423T143403Z
LAST-MODIFIED:20240423T143403Z
UID:4569-1715212800-1715385599@premortem.games
SUMMARY:A MAZE. 2024
DESCRIPTION:
URL:https://premortem.games/event/a-maze-2024/
LOCATION:Berlin\, Germany
CATEGORIES:Games Industry,On site
ATTACH;FMTTYPE=image/png:https://premortem.games/wp-content/uploads/2024/04/amazeoptie2.png
END:VEVENT
BEGIN:VEVENT
DTSTART;VALUE=DATE:20240429
DTEND;VALUE=DATE:20240501
DTSTAMP:20260419T145244
CREATED:20240423T142927Z
LAST-MODIFIED:20240423T143431Z
UID:4565-1714348800-1714521599@premortem.games
SUMMARY:Copenhagen MatchUp 2024
DESCRIPTION:
URL:https://premortem.games/event/copenhagen-matchup-2024/
LOCATION:Copenhagen\, Denmark
CATEGORIES:Games Industry,Hybrid
ATTACH;FMTTYPE=image/png:https://premortem.games/wp-content/uploads/2024/04/CPHMatchUp2024.png
END:VEVENT
BEGIN:VEVENT
DTSTART;VALUE=DATE:20231116
DTEND;VALUE=DATE:20231119
DTSTAMP:20260419T145244
CREATED:20230727T074507Z
LAST-MODIFIED:20230727T074507Z
UID:3535-1700092800-1700351999@premortem.games
SUMMARY:G-STAR 2023
DESCRIPTION:
URL:https://premortem.games/event/g-star-2023/
LOCATION:Busan
CATEGORIES:Games Industry,On site,Online
ATTACH;FMTTYPE=image/png:https://premortem.games/wp-content/uploads/2021/08/gstarnewlogo.png
END:VEVENT
BEGIN:VEVENT
DTSTART;VALUE=DATE:20231116
DTEND;VALUE=DATE:20231118
DTSTAMP:20260419T145244
CREATED:20230315T123252Z
LAST-MODIFIED:20230315T123252Z
UID:3040-1700092800-1700265599@premortem.games
SUMMARY:Gamesweek Zurich 2023
DESCRIPTION:
URL:https://premortem.games/event/gamesweek-zurich-2023/
LOCATION:Zurich\, Zurich\, Switzerland
CATEGORIES:Games Industry,On site,Online
ATTACH;FMTTYPE=image/png:https://premortem.games/wp-content/uploads/2023/03/SGDA_Gamesweek-Logo-bw_FV3.png
END:VEVENT
BEGIN:VEVENT
DTSTART;VALUE=DATE:20231024
DTEND;VALUE=DATE:20231027
DTSTAMP:20260419T145244
CREATED:20230526T094219Z
LAST-MODIFIED:20230526T094219Z
UID:3317-1698105600-1698364799@premortem.games
SUMMARY:Konsoll 2023
DESCRIPTION:
URL:https://premortem.games/event/konsoll-2023/
LOCATION:Bergen\, Norway
CATEGORIES:Games Industry,On site
ATTACH;FMTTYPE=image/png:https://premortem.games/wp-content/uploads/2023/05/konsoll-logo-website-2023.png
END:VEVENT
BEGIN:VEVENT
DTSTART;VALUE=DATE:20231002
DTEND;VALUE=DATE:20231005
DTSTAMP:20260419T145244
CREATED:20230316T095841Z
LAST-MODIFIED:20230316T095841Z
UID:3045-1696204800-1696463999@premortem.games
SUMMARY:GCAP 2023
DESCRIPTION:
URL:https://premortem.games/event/gcap-2023/
LOCATION:Melbourne
CATEGORIES:Games Industry,On site
ATTACH;FMTTYPE=image/png:https://premortem.games/wp-content/uploads/2023/03/gcaplogowebstie.png
END:VEVENT
BEGIN:VEVENT
DTSTART;VALUE=DATE:20230926
DTEND;VALUE=DATE:20230928
DTSTAMP:20260419T145244
CREATED:20230123T131023Z
LAST-MODIFIED:20230123T134727Z
UID:2740-1695686400-1695859199@premortem.games
SUMMARY:Indie Game Business Sessions – September 2023
DESCRIPTION:Indie Games Business Sessions as an annitiative from the Powell Group that teaches the game developers side of the business. \nWant to know more? Check out their website for awesome announcements and free to join access!
URL:https://premortem.games/event/indie-game-business-sessions-september-2023/
LOCATION:Virtual\, Virtual
CATEGORIES:Games Industry,Online
ATTACH;FMTTYPE=image/png:https://premortem.games/wp-content/uploads/2023/01/Square-Logo-IGBS-March-2022-500px.png
END:VEVENT
BEGIN:VEVENT
DTSTART;VALUE=DATE:20230912
DTEND;VALUE=DATE:20230913
DTSTAMP:20260419T145244
CREATED:20230328T122901Z
LAST-MODIFIED:20230328T122901Z
UID:3112-1694476800-1694563199@premortem.games
SUMMARY:PG Connects Helsinki 2023
DESCRIPTION:
URL:https://premortem.games/event/pg-connects-helsinki-2023/
LOCATION:Helsinki\, Finland
CATEGORIES:Games Industry,On site
ATTACH;FMTTYPE=image/png:https://premortem.games/wp-content/uploads/2023/03/pgc-helsinki-website.png
END:VEVENT
BEGIN:VEVENT
DTSTART;VALUE=DATE:20230821
DTEND;VALUE=DATE:20230826
DTSTAMP:20260419T145244
CREATED:20230209T132917Z
LAST-MODIFIED:20230209T132917Z
UID:2859-1692576000-1693007999@premortem.games
SUMMARY:The Cologne Edition
DESCRIPTION:MeetToMatch – The Cologne Edition is your most relevant platform for business in the games industry during gamescom since 2016. Trusted by hundreds of publishers\, investors\, governments and developers\, our platform enables you to get in contact with the right people from game companies around the world.
URL:https://premortem.games/event/the-cologne-edition/
LOCATION:Cologne\, Germany
CATEGORIES:Games Industry,On site
ATTACH;FMTTYPE=image/png:https://premortem.games/wp-content/uploads/2023/02/Cologne-Edition-2023-blue-square.png
END:VEVENT
BEGIN:VEVENT
DTSTART;VALUE=DATE:20230719
DTEND;VALUE=DATE:20230721
DTSTAMP:20260419T145244
CREATED:20230302T144035Z
LAST-MODIFIED:20230302T144035Z
UID:2982-1689724800-1689897599@premortem.games
SUMMARY:Pocket Gamer Connects Toronto
DESCRIPTION:
URL:https://premortem.games/event/pocket-gamer-connects-toronto-2/
LOCATION:Toronto\, Canada
CATEGORIES:Games Industry,On site
ATTACH;FMTTYPE=image/png:https://premortem.games/wp-content/uploads/2023/03/PGCtoronto.png
END:VEVENT
BEGIN:VEVENT
DTSTART;VALUE=DATE:20230714
DTEND;VALUE=DATE:20230717
DTSTAMP:20260419T145244
CREATED:20230209T131723Z
LAST-MODIFIED:20230209T131723Z
UID:2853-1689292800-1689551999@premortem.games
SUMMARY:BitSummit
DESCRIPTION:Established in late-2012\, BitSummit was founded with the goal of giving Japanese independent game makers a chance to show their games to the world\, and we succeeded\, growing from a small\, industry-only event for around 200 people in 2013\, to a groundbreaking festival that held court to over 11\,000 people in 2018.
URL:https://premortem.games/event/bitsummit/
LOCATION:Kyoto\, Japan
CATEGORIES:Games Industry
ATTACH;FMTTYPE=image/png:https://premortem.games/wp-content/uploads/2023/02/Bitsummit-logo.png
END:VEVENT
BEGIN:VEVENT
DTSTART;VALUE=DATE:20230711
DTEND;VALUE=DATE:20230714
DTSTAMP:20260419T145244
CREATED:20230124T084701Z
LAST-MODIFIED:20230124T084701Z
UID:2774-1689033600-1689292799@premortem.games
SUMMARY:Develop Brighton
DESCRIPTION:Develop:Brighton is a busy 3 days! The conference runs across all 3 days starting on Tuesday 11 July and the Expo runs on days 2 and 3 – Wednesday 12 and Thursday 13 July. There’s just as much happening after hours too – from official networking events\, parties\, the Develop:Star Awards and much more… \nDevelop:Brighton is the only event in the UK that brings the entire game-making industry together – from global superstars to micro indies\, to learn from each other\, share ideas and experiences\, network and do business in a friendly and inclusive environment. \nDon’t miss out on this event!
URL:https://premortem.games/event/develop-brighton/
LOCATION:Brighton\, England
CATEGORIES:Games Industry,On site
ATTACH;FMTTYPE=image/png:https://premortem.games/wp-content/uploads/2023/01/Schermafbeelding_20230124_093812-min.png
END:VEVENT
BEGIN:VEVENT
DTSTART;VALUE=DATE:20230623
DTEND;VALUE=DATE:20230626
DTSTAMP:20260419T145244
CREATED:20220411T140443Z
LAST-MODIFIED:20230103T083128Z
UID:1496-1687478400-1687737599@premortem.games
SUMMARY:Game Con Canada 2023
DESCRIPTION:They started with a vision: a gathering of all types of gamers across Canada. From table top\, card games\, Esports and any game imaginable. The dream is to bring these people together and strengthen the gaming community in Canada.\nGamers\, get ready to Play. Learn and Enjoy!
URL:https://premortem.games/event/game-con-canada-2023/
LOCATION:Calgary\, Canada\, Calgary\, Canada
CATEGORIES:Games Industry,On site
ATTACH;FMTTYPE=image/png:https://premortem.games/wp-content/uploads/2022/04/Game-Con-Canada-Logo.png
END:VEVENT
BEGIN:VEVENT
DTSTART;VALUE=DATE:20230621
DTEND;VALUE=DATE:20230623
DTSTAMP:20260419T145244
CREATED:20230328T125817Z
LAST-MODIFIED:20230328T125817Z
UID:3115-1687305600-1687478399@premortem.games
SUMMARY:Dubai GameExpo Summit 2023
DESCRIPTION:
URL:https://premortem.games/event/dubai-gameexpo-summit-2023/
LOCATION:Dubai
CATEGORIES:Games Industry,On site
ATTACH;FMTTYPE=image/png:https://premortem.games/wp-content/uploads/2023/03/gxs23-logo-dark-500x500-r225x225.png
END:VEVENT
BEGIN:VEVENT
DTSTART;VALUE=DATE:20230621
DTEND;VALUE=DATE:20230622
DTSTAMP:20260419T145244
CREATED:20230203T114631Z
LAST-MODIFIED:20230203T114631Z
UID:2827-1687305600-1687391999@premortem.games
SUMMARY:INDIGO 2023
DESCRIPTION:
URL:https://premortem.games/event/indigo-2023/
LOCATION:Utrecht
CATEGORIES:Games Industry,On site
ATTACH;FMTTYPE=image/png:https://premortem.games/wp-content/uploads/2022/02/indigocalendar.png
END:VEVENT
BEGIN:VEVENT
DTSTART;VALUE=DATE:20230523
DTEND;VALUE=DATE:20230527
DTSTAMP:20260419T145244
CREATED:20230320T130535Z
LAST-MODIFIED:20230320T130535Z
UID:3066-1684800000-1685145599@premortem.games
SUMMARY:Nordic Game May 2023
DESCRIPTION:
URL:https://premortem.games/event/nordic-game-may-2023/
LOCATION:Malmo\, Sweden
CATEGORIES:Games Industry,On site,Online
ATTACH;FMTTYPE=image/png:https://premortem.games/wp-content/uploads/2023/03/nordicgamewebsite.png
END:VEVENT
BEGIN:VEVENT
DTSTART;VALUE=DATE:20230516
DTEND;VALUE=DATE:20230518
DTSTAMP:20260419T145244
CREATED:20230123T131400Z
LAST-MODIFIED:20230123T134121Z
UID:2742-1684195200-1684367999@premortem.games
SUMMARY:Pocket Gamer Connects Seattle
DESCRIPTION:Pocket Gamer Connects is the leading international conference series for the global games industry. They focus on connecting you with the right people bringing together delegates from across the entire ecosystem with all the key formats covered from mobile\, PC and console to  XR\, blockchain and web3 technology. \nWell over 33\,000 industry professionals have attended the PG Connects international conference series since 2014. The roadshow has landed in the UK\, America\, Canada\, Finland\, Jordan\, India and Hong Kong with a genuinely international client base. \nAfter many years of curating events for the games industry\, PG Connects has established a stellar reputation as a must-attend conference if you want to meet the most exciting game makers\, developers and publishers alike\, as well as some of the world’s top investors\, tools providers\, platformers and more. The audience is truly global and representative of the entire games industry ecosystem. \nWHAT TO EXPECT FROM POCKET GAMER CONNECTS SEATTLE 2023…
URL:https://premortem.games/event/pocket-gamer-connects-seattle/
LOCATION:Seattle\, Canada
CATEGORIES:Games Industry,On site
ATTACH;FMTTYPE=image/png:https://premortem.games/wp-content/uploads/2023/01/Schermafbeelding_20230123_141137.png
END:VEVENT
BEGIN:VEVENT
DTSTART;VALUE=DATE:20230424
DTEND;VALUE=DATE:20230426
DTSTAMP:20260419T145244
CREATED:20230209T130548Z
LAST-MODIFIED:20230209T130655Z
UID:2845-1682294400-1682467199@premortem.games
SUMMARY:Copenhagen Matchup
DESCRIPTION:Copenhagen MatchUp is Denmark’s largest games industry matchmaking event. Pairing investors & publishers from across the Worlds with the best of the Danish Games industry both online and on-site over two days in April.
URL:https://premortem.games/event/copenhagen-matchup/
LOCATION:Copenhagen\, Denmark
CATEGORIES:Games Industry,On site,Online
ATTACH;FMTTYPE=image/png:https://premortem.games/wp-content/uploads/2021/03/cph_matchup.png
END:VEVENT
BEGIN:VEVENT
DTSTART;VALUE=DATE:20230420
DTEND;VALUE=DATE:20230422
DTSTAMP:20260419T145244
CREATED:20230123T130715Z
LAST-MODIFIED:20230124T090100Z
UID:2729-1681948800-1682121599@premortem.games
SUMMARY:XP Game Developer Summit Toronto
DESCRIPTION:XP GAME DEVELOPER SUMMIT RETURNS\n\n\n\n\nXP Game Developer Summit will return to Toronto for its 4th year at the Westin Harbour Castle on April 20 & 21st\, 2023 \nFeaturing global networking\, world-class speakers\, exclusive panels\, workshops\, Canada’s largest game showcase\, and more\, XP Game Developer Summit is the premier business-to-business conference for the Canadian gaming industry. \nXP Game Developer Summit has once again partnered with event platform provider MeetToMatch to facilitate targeted networking and business-to-business experiences for international investors\, publishers\, developers\, and service providers to discover new business opportunities.
URL:https://premortem.games/event/xp-game-developer-summit-toronto/
LOCATION:Toronto\, Canada
CATEGORIES:Games Industry,On site
ATTACH;FMTTYPE=image/png:https://premortem.games/wp-content/uploads/2023/01/gds-logo-site.png
END:VEVENT
BEGIN:VEVENT
DTSTART;VALUE=DATE:20230320
DTEND;VALUE=DATE:20230325
DTSTAMP:20260419T145244
CREATED:20230123T130226Z
LAST-MODIFIED:20230213T164406Z
UID:2726-1679270400-1679702399@premortem.games
SUMMARY:The San Francisco Edition 2023 - Powered by Xsolla
DESCRIPTION:MeetToMatch – The San Francisco Edition\, powered by Xsolla is your most relevant platform for business in the games industry during GDC since 2017. Trusted by hundreds of publishers\, investors\, governments and developers\, the MeetToMatch platform enables you to get in contact with the right people from game companies around the world. A very efficient way to make your time most relevant during one of the largest tradeshows in North America.
URL:https://premortem.games/event/the-san-francisco-edition-2023/
LOCATION:San Francisco\, United States
CATEGORIES:Games Industry,On site
ATTACH;FMTTYPE=image/png:https://premortem.games/wp-content/uploads/2023/01/San-Francisco-Edition-2023-purple-square.png
END:VEVENT
BEGIN:VEVENT
DTSTART;VALUE=DATE:20230308
DTEND;VALUE=DATE:20230310
DTSTAMP:20260419T145244
CREATED:20230123T110932Z
LAST-MODIFIED:20230123T134645Z
UID:2720-1678233600-1678406399@premortem.games
SUMMARY:Indie Game Business Session – March 2023
DESCRIPTION:Indie Games Business Sessions as an annitiative from the Powell Group that teaches the game developers side of the business. \nWant to know more? Check out their website for awesome announcements and free to join access!
URL:https://premortem.games/event/indie-game-business-session-march-2023/
LOCATION:Virtual\, Virtual
CATEGORIES:Games Industry,Online
ATTACH;FMTTYPE=image/png:https://premortem.games/wp-content/uploads/2023/01/Calendar-image.png
END:VEVENT
BEGIN:VEVENT
DTSTART;VALUE=DATE:20230301
DTEND;VALUE=DATE:20230303
DTSTAMP:20260419T145244
CREATED:20230123T110531Z
LAST-MODIFIED:20230123T132446Z
UID:2716-1677628800-1677801599@premortem.games
SUMMARY:Hamburg Games Conference
DESCRIPTION:The annual Hamburg Games Conference has been a permanent date in the calendar of the international games industry for over 10 years. As on of the most important B2B events for the games sector in Europe\, 2021 saw the conference set new standards by taking online events to a new level. 2022 continued to define new standards for hybrid conferences. This year they are back in with the topic “Invest in Games” in an on-site only event form.
URL:https://premortem.games/event/hamburg-games-conference/
LOCATION:Hamburg\, Germany
CATEGORIES:Games Industry,On site
ATTACH;FMTTYPE=image/png:https://premortem.games/wp-content/uploads/2023/01/image-1.png
END:VEVENT
END:VCALENDAR