BEGIN:VCALENDAR
VERSION:2.0
PRODID:-//PreMortem Games - ECPv6.15.17//NONSGML v1.0//EN
CALSCALE:GREGORIAN
METHOD:PUBLISH
X-ORIGINAL-URL:https://premortem.games
X-WR-CALDESC:Events for PreMortem Games
REFRESH-INTERVAL;VALUE=DURATION:PT1H
X-Robots-Tag:noindex
X-PUBLISHED-TTL:PT1H
BEGIN:VTIMEZONE
TZID:Europe/Amsterdam
BEGIN:DAYLIGHT
TZOFFSETFROM:+0100
TZOFFSETTO:+0200
TZNAME:CEST
DTSTART:20200329T010000
END:DAYLIGHT
BEGIN:STANDARD
TZOFFSETFROM:+0200
TZOFFSETTO:+0100
TZNAME:CET
DTSTART:20201025T010000
END:STANDARD
BEGIN:DAYLIGHT
TZOFFSETFROM:+0100
TZOFFSETTO:+0200
TZNAME:CEST
DTSTART:20210328T010000
END:DAYLIGHT
BEGIN:STANDARD
TZOFFSETFROM:+0200
TZOFFSETTO:+0100
TZNAME:CET
DTSTART:20211031T010000
END:STANDARD
BEGIN:DAYLIGHT
TZOFFSETFROM:+0100
TZOFFSETTO:+0200
TZNAME:CEST
DTSTART:20220327T010000
END:DAYLIGHT
BEGIN:STANDARD
TZOFFSETFROM:+0200
TZOFFSETTO:+0100
TZNAME:CET
DTSTART:20221030T010000
END:STANDARD
END:VTIMEZONE
BEGIN:VTIMEZONE
TZID:Europe/Paris
BEGIN:DAYLIGHT
TZOFFSETFROM:+0100
TZOFFSETTO:+0200
TZNAME:CEST
DTSTART:20200329T010000
END:DAYLIGHT
BEGIN:STANDARD
TZOFFSETFROM:+0200
TZOFFSETTO:+0100
TZNAME:CET
DTSTART:20201025T010000
END:STANDARD
BEGIN:DAYLIGHT
TZOFFSETFROM:+0100
TZOFFSETTO:+0200
TZNAME:CEST
DTSTART:20210328T010000
END:DAYLIGHT
BEGIN:STANDARD
TZOFFSETFROM:+0200
TZOFFSETTO:+0100
TZNAME:CET
DTSTART:20211031T010000
END:STANDARD
BEGIN:DAYLIGHT
TZOFFSETFROM:+0100
TZOFFSETTO:+0200
TZNAME:CEST
DTSTART:20220327T010000
END:DAYLIGHT
BEGIN:STANDARD
TZOFFSETFROM:+0200
TZOFFSETTO:+0100
TZNAME:CET
DTSTART:20221030T010000
END:STANDARD
END:VTIMEZONE
BEGIN:VEVENT
DTSTART;VALUE=DATE:20211020
DTEND;VALUE=DATE:20211022
DTSTAMP:20260420T015229
CREATED:20210817T083119Z
LAST-MODIFIED:20210817T083119Z
UID:531-1634688000-1634860799@premortem.games
SUMMARY:Green Games Summit
DESCRIPTION:Held remotely over two days on the 20th and 21st of October\, the Green Games Summit will for the first time bring the international games sector together to share knowledge\, discuss and shape the industry’s approach to the climate crisis and sustainability ahead of this year’s\, UK-hosted\, COP26. \nGames businesses from all over the world are being invited to attend the event to find out how they can become more environmentally sustainable\, to learn from other games businesses about the latest innovative activities\, activations and initiatives that are inspiring change around the world.
URL:https://premortem.games/event/green-games-summit/
LOCATION:Online
CATEGORIES:Games Industry
ATTACH;FMTTYPE=image/png:https://premortem.games/wp-content/uploads/2021/08/ggs.png
END:VEVENT
BEGIN:VEVENT
DTSTART;VALUE=DATE:20211014
DTEND;VALUE=DATE:20211016
DTSTAMP:20260420T015229
CREATED:20210908T125446Z
LAST-MODIFIED:20210908T125446Z
UID:584-1634169600-1634342399@premortem.games
SUMMARY:Sweden Game Conference 2021
DESCRIPTION:Europe’s leading conference for aspiring and professional game developers and startups is back on October 14-15 both online and in Skövde. With more than 1 200 participants\, Sweden Game Conference is filled with inspiration regarding career\, craft\, matchmaking and more.  \nCrossing Borders: Moving Forward Together \nFor this year’s theme\, Crossing Borders: Moving Forward Together\, they explore these transformational conditions and consider the challenges and successes within our current game markets and cultures as they work together to diversify our practices and create new partnerships and alliances.
URL:https://premortem.games/event/sweden-game-conference-2021/
LOCATION:Skövde
CATEGORIES:Games Industry
ATTACH;FMTTYPE=image/png:https://premortem.games/wp-content/uploads/2021/09/sgasite.png
END:VEVENT
BEGIN:VEVENT
DTSTART;VALUE=DATE:20211008
DTEND;VALUE=DATE:20211010
DTSTAMP:20260420T015229
CREATED:20210830T141129Z
LAST-MODIFIED:20210830T141129Z
UID:574-1633651200-1633823999@premortem.games
SUMMARY:Indieway October 2021
DESCRIPTION:Welcome to Indieway October 2021! Here you’ll find free webinars with great speakers\, business matchmaking to make great deals a showcase to present your product\, and free showcase opportunity for indie developers. More info here!
URL:https://premortem.games/event/indieway-october-2021/
LOCATION:Online
CATEGORIES:Games Industry
ATTACH;FMTTYPE=image/png:https://premortem.games/wp-content/uploads/2021/08/indiewaywebsite.png
END:VEVENT
BEGIN:VEVENT
DTSTART;VALUE=DATE:20211006
DTEND;VALUE=DATE:20211009
DTSTAMP:20260420T015229
CREATED:20210913T103411Z
LAST-MODIFIED:20210913T103411Z
UID:604-1633478400-1633737599@premortem.games
SUMMARY:GI Live: London
DESCRIPTION:GI Live: London will take place digitally via our MeetToMatch meeting system on Wednesday\, October 6th. And then in person at EGX (Excel\, West Entrance\, Platinum Suite London) on Thursday\, October 7th and Friday\, October 8th. The event boasts all-day meetings\, access to the EGX show floor\, an indie showcase\, lunch\, drinks and top tier speakers and roundtable sessions.  \nThe talks will include live and pre-recorded talks from industry legends\, which will be also available to view online. Talks will cover investment\, publishing\, marketing\, industry trends and data\, plus brand development outside of video games.
URL:https://premortem.games/event/gi-live-london/
LOCATION:London\, England
CATEGORIES:Games Industry
ATTACH;FMTTYPE=image/png:https://premortem.games/wp-content/uploads/2021/09/gilivewebsite.png
END:VEVENT
BEGIN:VEVENT
DTSTART;VALUE=DATE:20210803
DTEND;VALUE=DATE:20210806
DTSTAMP:20260420T015229
CREATED:20210726T111836Z
LAST-MODIFIED:20210726T111836Z
UID:481-1627948800-1628207999@premortem.games
SUMMARY:Indonesia GameDay BizMatch
DESCRIPTION:
URL:https://premortem.games/event/indonesia-gameday-bizmatch/
LOCATION:Online
CATEGORIES:Games Industry
ATTACH;FMTTYPE=image/png:https://premortem.games/wp-content/uploads/2021/07/logo-indonesia.png
END:VEVENT
END:VCALENDAR